BEGIN:VCALENDAR
VERSION:2.0
PRODID:-//Kirikaeshi - ECPv6.15.20//NONSGML v1.0//EN
CALSCALE:GREGORIAN
METHOD:PUBLISH
X-WR-CALNAME:Kirikaeshi
X-ORIGINAL-URL:https://kirikaeshi.es
X-WR-CALDESC:Events for Kirikaeshi
REFRESH-INTERVAL;VALUE=DURATION:PT1H
X-Robots-Tag:noindex
X-PUBLISHED-TTL:PT1H
BEGIN:VTIMEZONE
TZID:UTC
BEGIN:STANDARD
TZOFFSETFROM:+0000
TZOFFSETTO:+0000
TZNAME:UTC
DTSTART:20220101T000000
END:STANDARD
END:VTIMEZONE
BEGIN:VEVENT
DTSTART;VALUE=DATE:20231006
DTEND;VALUE=DATE:20231009
DTSTAMP:20260421T131929
CREATED:20230818T112449Z
LAST-MODIFIED:20230818T112622Z
UID:953-1696550400-1696809599@kirikaeshi.es
SUMMARY:Lions Kendo Cup
DESCRIPTION:INFORMATION:\nKids\, juniors\, youth kendo tournament/seminar led by Takatera sensei\, kendo kyoshi 8 dan. Categories from 6 up to 21 years\n\nSCHEDULE:\nFriday 6th to Sunday 8th\, October\nTraining all together\n\nSaturday 7th\, October\n\nTournament divided in two sections (kihon and shiai)\, and by ages:\n\nKihon:\n\nFrom 2 to 8 years:\nFrom 9 to 13 years\nFrom 14 to 17 years\n\n\n\nShiai:\n\nUp to 8 years\nFrom 9 to 11 years\nFrom 12 to 14 years\nFrom 15 to 17 years\nFrom 18 to 21 years\n\n\n\nSunday 8th\, October\n\nTraining all together\n\n\n\n\n\nADDRESS:\nKobukan dojo\nPod Juliskou 1805/4\,\n160 00 Praha 6-Dejvice\nCzech Republic\n\n\n\n\n\nCONTACT: \nPage event: link
URL:https://kirikaeshi.es/event/lions-kendo-cup/
LOCATION:Czech Republic –
CATEGORIES:Competition,Grading
END:VEVENT
END:VCALENDAR