BEGIN:VCALENDAR
VERSION:2.0
PRODID:-//Kirikaeshi - ECPv6.15.20//NONSGML v1.0//EN
CALSCALE:GREGORIAN
METHOD:PUBLISH
X-ORIGINAL-URL:https://kirikaeshi.es
X-WR-CALDESC:Events for Kirikaeshi
REFRESH-INTERVAL;VALUE=DURATION:PT1H
X-Robots-Tag:noindex
X-PUBLISHED-TTL:PT1H
BEGIN:VTIMEZONE
TZID:UTC
BEGIN:STANDARD
TZOFFSETFROM:+0000
TZOFFSETTO:+0000
TZNAME:UTC
DTSTART:19690101T000000
END:STANDARD
END:VTIMEZONE
BEGIN:VEVENT
DTSTART;TZID=UTC:20260422T174619
DTEND;TZID=UTC:20260102T152000
DTSTAMP:20260422T174619
CREATED:20260107T153520Z
LAST-MODIFIED:20260107T153520Z
UID:2637-0-1767367200@kirikaeshi.es
SUMMARY:34nd EKF / FIK Referee Seminar
DESCRIPTION:
URL:https://kirikaeshi.es/event/34nd-ekf-fik-referee-seminar/
CATEGORIES:High Dan,National Team,Referees
END:VEVENT
BEGIN:VEVENT
DTSTART;VALUE=DATE:20240105
DTEND;VALUE=DATE:20240108
DTSTAMP:20260422T174619
CREATED:20231218T191447Z
LAST-MODIFIED:20231218T191705Z
UID:1296-1704412800-1704671999@kirikaeshi.es
SUMMARY:The 5th Denshinkan 2024
DESCRIPTION:INFORMATION:\n\n\nStart the year visiting the lovely city of Cardiff for a kendo event:  3 days\, split into 9 sessions\, a total of 18 hours of kendo! Led by James Ogle (6th Dan). \nGuest sensei including:\nKazue Daigo Sensei\, Renshi 7th Dan\nDerek Whitson Sensei\, 6th Dan \n\n\n\nSCHEDULE:\n\nFriday 5th\, January – \n8:30 a.m. – 10:30 a.m – Morning session\n11:30 a.m. – 1:30 a.m – Lunch time\n3 p.m. – 5 p.m – Afternoon session\n\n\nSaturday 6th\, January – \n\n8:30 a.m. – 10:30 a.m – Morning session\n11:30 a.m. – 1:30 a.m – Lunch time\n3 p.m. – 5 p.m – Afternoon session\n\n\n\nSunday 7th\, January – \n\n8:30 a.m. – 10:30 a.m – Morning session\n11:30 a.m. – 1:30 a.m – Lunch time\n3 p.m. – 5 p.m – Afternoon session \n\n\n\nREGISTRATION & FEES:\nRegister now! Link\n\nCost of full Kangeiko (Friday morning to Sunday afternoon): £40\nCost of one full day: £15\nCost of one individual keiko: £8\nNo charge for 6th Dan or 7th Dan Sensei attending\n£10 discount off total price of 2 days or more for Juniors (under 18 years old)\n\nPayment to be made by bank transfer to:\nName: Denshinkan Kendo Club\nBank: Lloyds Bank\nAccount No: 34695268\nSort Code: 30-98-97 \nCONTACT:  Facebook link
URL:https://kirikaeshi.es/event/the-5th-denshinkan-2024/
LOCATION:United Kingdom\, Cardiff Medical Centre Sports and Social Club (CMCSSC)\, UHW Heath Park\, Cardiff\, CF14 4XW
CATEGORIES:Seminar
ATTACH;FMTTYPE=image/png:https://kirikaeshi.es/wp-content/uploads/2023/12/Capture.png
END:VEVENT
BEGIN:VEVENT
DTSTART;VALUE=DATE:20240119
DTEND;VALUE=DATE:20240122
DTSTAMP:20260422T174619
CREATED:20231217T213852Z
LAST-MODIFIED:20231217T214000Z
UID:1287-1705622400-1705881599@kirikaeshi.es
SUMMARY:Spain - Winterkendo 2024
DESCRIPTION:INFORMATION:\n\n\nKendo seminar in Estepona (Málaga\, Spain) led by Markus Frey (7° Dan Kyoshi) and Mikko Salonen (7° Dan Kyoshi). The event will take place on the 19th\, 20th y 21st of January\, 2024. There will be also gradings from 1st to 5th dan Se celebrarán exámenes de 1° a 5°dan. \n\n\nSCHEDULE:\n\nFriday 19th\, December – \nMorning session: 10.00 – 13:00\nAfternoon session: 17.00 – 19.00\n\n\nSaturday 20th\, December – \nMorning session: 9.30 – 12.00\nGradings (1st to 5th dan): 12.30\nAfternoon session:15:30 – 18:50\nSAYONARA PARTY: 21:00\n\n\nSunday 21st\, December – \n\nMorning session: 10.00 – 12.30 \n\n\n\n\nSENSEI\nAntonio Gutiérrez (7° Dan Kyoshi)\nEmilio Gómez (7°Dan Kyoshi)\nMarkus Lyyrtö (7° Dan Renshi)\nSantiago Peydró (7°Dan Renshi)\n\nTRANSPORTATION\n\nWe will provide transportation from Malaga (airport and train station) to Estepona by minibus service on Thursday (evening) and Friday (morning and noon); return on Sunday after training. Price to be confirmed. \n\n\nADDRESS\nPolideportivo La Lobilla\,\nCamino de los molinos\, 2 (29680)\nEstepona\, Malaga\n\nSpain \n\nREGISTRATION & FEES:\nRegistration here (DEADLINE: 12th January): http://www.shion-dojo.es/inscripcion-curso/\n3 days – 50€\n1 day – 35€\nJuniors (under 15 yo) – 15€\nSayonara Party – exact price to be confirmed: ~25€\n\nPayment\nBy transfer to the club’s account:\nCD Shion Dojo\nES44 0081 0240 1900 0262 6272.\nPlease attach proof of payment in the corresponding field of the registration form.\nPrices still to be confirmed (sayonara and mini bus) can be made as the date of the seminar approaches. \nCONTACT: For any question\, contact: inscripciones@shion-dojo.es
URL:https://kirikaeshi.es/event/spain-winterkendo-2024/
LOCATION:Estepona\, Cam. de los Molinos\, 2\, Estepona\, Malaga\, 29680
CATEGORIES:Seminar
ATTACH;FMTTYPE=image/png:https://kirikaeshi.es/wp-content/uploads/2023/12/Cartel.png
END:VEVENT
END:VCALENDAR