BEGIN:VCALENDAR
VERSION:2.0
PRODID:-//Kirikaeshi - ECPv6.15.20//NONSGML v1.0//EN
CALSCALE:GREGORIAN
METHOD:PUBLISH
X-ORIGINAL-URL:https://kirikaeshi.es
X-WR-CALDESC:Events for Kirikaeshi
REFRESH-INTERVAL;VALUE=DURATION:PT1H
X-Robots-Tag:noindex
X-PUBLISHED-TTL:PT1H
BEGIN:VTIMEZONE
TZID:UTC
BEGIN:STANDARD
TZOFFSETFROM:+0000
TZOFFSETTO:+0000
TZNAME:UTC
DTSTART:20240101T000000
END:STANDARD
END:VTIMEZONE
BEGIN:VEVENT
DTSTART;TZID=UTC:20250926T190000
DTEND;TZID=UTC:20250928T183000
DTSTAMP:20260422T200030
CREATED:20250610T085558Z
LAST-MODIFIED:20250714T123855Z
UID:2449-1758913200-1759084200@kirikaeshi.es
SUMMARY:🇨🇭 Kasahara Cup 2025
DESCRIPTION:Get your bogu ready—registration is officially open for this exciting kendo competition in Switzerland! You have until midnight on September 14 to sign up or make any changes to your registration. Don’t miss the chance to be part of one of the most spirited events on the kendo calendar. \nProgram Overview\n📍 September 26 \n\n\n19:00 – Goodwill Geiko at Cayla Dojo – a friendly warm-up to start the weekend \n\n\n📍 September 27 \n\n\n13:00 – Opening Ceremony \n\n\n13:15 – Team Competition \n\n\n18:00 – Free jigeiko \n\n\n20:00 – Dinner with fellow kendoka \n\n\n📍 September 28 \n\n\n07:30 – Shinai Check \n\n\n08:15 – Day 2 Opening Ceremony \n\n\n08:30 – Individual Competitions (Open\, Ladies\, Juniors) \n\n\n12:00 – Lunch Break \n\n\n16:30 – Finals & Closing Ceremony \n\n\nThis kendo competition brings together practitioners from across the region for two days of spirited matches and camaraderie. \nCompetition Categories\nWhether you’re new to kendo or a seasoned competitor\, this kendo competition has a category for you: \n\n\nJunior U-12 – For kendoka up to and including 12 years old. 12-year-olds may also enter U-15. \n\n\nJunior U-15 – Ages 12–15. 15-year-olds may also enter U-18. \n\n\nJunior U-18 – Ages 15–18. \n\n\nLadies – For female kendoka aged 16+. Participants under 18 must submit a signed parental authorization. \n\n\nOpen – For all kendoka 16 and older. Minors require parental consent. \n\n\nTeam – Teams of 3–5 members. Order can change before each match. Minimum age: 16. \n\n\nShinpan (Referees)Along with invited official referees\, we also rely on senior participants to help judge matches during the kendo competition. Your support is greatly appreciated! \nRegistration Fees\nAll payments are made in cash on site (CHF or €): \n\n\nTeam Participation: 15 CHF / 16 € \n\n\nIndividual (Junior\, 17 and under): 15 CHF / 16 € \n\n\nIndividual (Adult\, 18+): 25 CHF / 27 € \n\n\nTwo-Day Pass (Junior): 25 CHF / 27 € \n\n\nTwo-Day Pass (Adult): 35 CHF / 37 € \n\n\nSaturday Dinner (81 spots left): 25 CHF / 27 € \n\n\nSunday Lunch (Sandwich Menu): 15 CHF / 16 € \n\n\n Venue – Kendo Competition in Geneva\, Switzerland\nAs in previous years\, the kendo competition in Switzerland will be held at the: \nCentre sportif du Bout-du-Monde📍 Stade du Bout-du-MondeRoute de Vessy 121206 Geneva\, Switzerland🧭 GPS: 46.180588\, 6.155893🔗 View on Google Maps \nWhether you’re coming for the fights\, the friendships\, or the experience\, this kendo competition in Switzerland is an event you won’t want to miss! \n👉 For full event info\, updates\, and FAQs\, please check the organizer’s website.
URL:https://kirikaeshi.es/event/kasahara-cup-2025/
CATEGORIES:Competition
ATTACH;FMTTYPE=image/png:https://kirikaeshi.es/wp-content/uploads/2025/06/Screenshot-2025-06-10-at-10.51.25.png
END:VEVENT
BEGIN:VEVENT
DTSTART;TZID=UTC:20251003T180000
DTEND;TZID=UTC:20251005T150000
DTSTAMP:20260422T200030
CREATED:20250616T072209Z
LAST-MODIFIED:20250714T123817Z
UID:2460-1759514400-1759676400@kirikaeshi.es
SUMMARY:🇫🇷 3rd Women Aki Taikai
DESCRIPTION:We are delighted to announce the 3rd Edition of the  WOMEN AKI TAIKAI — a special Kendo seminar for ladies led by European 7th Dan Sensei. \nWelcome Keiko: October 3rd\, from 18:30 to 19:30Kendo Seminar: October 4th\, from 9:00 to 18:00Tournament: October 5th\, from 9:00 to 15:00 \nThis is a unique opportunity to train and compete in an event dedicated to women in Kendo. We look forward to seeing you there!
URL:https://kirikaeshi.es/event/3rd-women-aki-taikai/
CATEGORIES:Competition,Seminar
ATTACH;FMTTYPE=image/png:https://kirikaeshi.es/wp-content/uploads/2025/06/Screenshot-2025-06-16-at-09.17.52.png
END:VEVENT
BEGIN:VEVENT
DTSTART;TZID=UTC:20260213T000000
DTEND;TZID=UTC:20260215T000000
DTSTAMP:20260422T200030
CREATED:20260107T123802Z
LAST-MODIFIED:20260107T135808Z
UID:2625-1770940800-1771113600@kirikaeshi.es
SUMMARY:TEST – Kendo Seminar
DESCRIPTION:This is a test event to verify Airtable → WordPress import.
URL:https://kirikaeshi.es/event/test-kendo-seminar/
END:VEVENT
BEGIN:VEVENT
DTSTART;TZID=UTC:20260606T162000
DTEND;TZID=UTC:20260706T162000
DTSTAMP:20260422T200030
CREATED:20260107T153541Z
LAST-MODIFIED:20260107T153541Z
UID:2648-1780762800-1783354800@kirikaeshi.es
SUMMARY:Tengu Cup
DESCRIPTION:
URL:https://kirikaeshi.es/event/tengu-cup/
END:VEVENT
BEGIN:VEVENT
DTSTART;TZID=UTC:20260702T153100
DTEND;TZID=UTC:20260802T153100
DTSTAMP:20260422T200030
CREATED:20260107T153520Z
LAST-MODIFIED:20260107T153520Z
UID:2638-1783006260-1785684660@kirikaeshi.es
SUMMARY:French Open
DESCRIPTION:
URL:https://kirikaeshi.es/event/french-open/
CATEGORIES:All
END:VEVENT
BEGIN:VEVENT
DTSTART;TZID=UTC:20261104T100000
DTEND;TZID=UTC:20261204T170000
DTSTAMP:20260422T200030
CREATED:20260107T153526Z
LAST-MODIFIED:20260107T153526Z
UID:2643-1793786400-1796403600@kirikaeshi.es
SUMMARY:The BKA London Kendo Seminar & Grading
DESCRIPTION:
URL:https://kirikaeshi.es/event/the-bka-london-kendo-seminar-grading/
CATEGORIES:All
END:VEVENT
END:VCALENDAR