BEGIN:VCALENDAR
VERSION:2.0
PRODID:-//Kirikaeshi - ECPv6.15.20//NONSGML v1.0//EN
CALSCALE:GREGORIAN
METHOD:PUBLISH
X-WR-CALNAME:Kirikaeshi
X-ORIGINAL-URL:https://kirikaeshi.es
X-WR-CALDESC:Events for Kirikaeshi
REFRESH-INTERVAL;VALUE=DURATION:PT1H
X-Robots-Tag:noindex
X-PUBLISHED-TTL:PT1H
BEGIN:VTIMEZONE
TZID:UTC
BEGIN:STANDARD
TZOFFSETFROM:+0000
TZOFFSETTO:+0000
TZNAME:UTC
DTSTART:20220101T000000
END:STANDARD
END:VTIMEZONE
BEGIN:VEVENT
DTSTART;VALUE=DATE:20230825
DTEND;VALUE=DATE:20230828
DTSTAMP:20260421T191320
CREATED:20230605T205710Z
LAST-MODIFIED:20230612T112121Z
UID:714-1692921600-1693180799@kirikaeshi.es
SUMMARY:Ljubljana Summer Seminar (KENDO and IAIDO) & Samurai Cup 2023
DESCRIPTION:INFORMATION:\nKendo seminar will be conducted by Hirakawa Nobuo sensei (Kendo 8th Dan Kyoshi\, Iaido 7th Dan Kyoshi). Iaido seminar will be conducted by Ito Masatoshi sensei (Iaido 8th Dan Kyoshi). We will be also hosting a delegation of Japanese and European teachers. There will be kendo and iaido examinations and on Sunday the traditional competition for Samurai cup.\nWe are looking forward to see you in Ljubljana!SCHEDULE:Friday 25th August\n\n\n17:00 – 19:00 Iaido\n19:00 – 21:00 Kendo\n\nSaturday 26th August  \n\n8:30 – 10:00 Iaido\n10:00 – 12:00 Opening ceremony and Kendo training\n12:00 – 14:30 Lunch break\n13:00 – 14:30 Iaido\n14:30 – 16:30 Kendo\n16:30 Kendo examination up to 5 Dan and Iaido examination up to 4 Dan\n19:00 Sayonara party\n\nSunday 27th August  \n\n10:00 – 15:00 Kendo Samurai Cup competition\n\n\n\nADDRESS:\nIžanska cesta 12\,\n1000 Ljubljana\nSlovenia\nPRICING:\n\n\n\nKendo (Friday\, Saturday\, competition): 80€\nKendo (Friday and Saturday): 65€\nIaido (Friday and Saturday): 60€\nIaido (Saturday): 50€\nKendo + Iaido (Friday\, Saturday\, competition): 105€\nChildren (up to 15 year old\, Friday and Saturday): 45€\nYoungsters (from 15 to 18 years\, Friday\, Saturday\, competition): 65€\nSayonara party: 25€\nSaturday lunch: 10€\n\n\n\nREGISTRATION:\nRegistration deadline: 15/08/2023\n\n\nVia this link. \n\n\n\nACCOMMODATION:\nOfficial accommodation provided by organizer at the DIC Hostel. Participants get a 10% discount.\nPlease check and book here: \nhttp://hosteldic.com/ \nOther accommodation options in Ljubljana can be found on this site: \nhttps://www.visitljubljana.com/en/visitors/plan-your-visit/accommodation/ \n\n\n CONTACT:\ninfo@kendo-seminar.si\nhttp://www.kendo-seminar.si/en/
URL:https://kirikaeshi.es/event/ljubljana-summer-seminar-kendo-and-iaido-samurai-cup-2023/
LOCATION:Slovenia –\, Ižanska cesta 12\, Ljubljana\, 1000
CATEGORIES:Competition,Grading,Seminar
ATTACH;FMTTYPE=image/png:https://kirikaeshi.es/wp-content/uploads/2023/06/Ljubljana_Summer_Seminar_Banner-e1686568871540.png
END:VEVENT
BEGIN:VEVENT
DTSTART;VALUE=DATE:20230830
DTEND;VALUE=DATE:20230904
DTSTAMP:20260421T191320
CREATED:20230818T105639Z
LAST-MODIFIED:20230818T110040Z
UID:947-1693353600-1693785599@kirikaeshi.es
SUMMARY:ABKF Summer Seminar 2023
DESCRIPTION:INFORMATION:\nKendo seminar and kendo grading from ikkyu to godan in Belgium.\n\nSCHEDULE:\nWednesday 30th and Thursday 31st\, August\n\n20:00 to 22:00 – Kendo All Levels \n\nFriday 1st\,  September\n\n15:00 to 17:00 – Special kata training\n20:00 to 22:00 – Kendo All Levels\n\n\nSaturday 2nd\,  September\n\n09:15 to 11:30; 13:30 to 15:30 & 17:00 to 18:30 – Kendo All Levels\n\n\n\nSunday 3rd\,  September\n\n09:15 to 12:00 – Belgium kendoka only\n13:30 to 14:00 – Preparation for the examination\n14:00 – Examinations from Ikkyu to Godan\n\n\n\n\n\n\n\n\nADDRESS:\nCentre Adeps d’Auderghem (ADEPS)\nAuderghem\, Chaussée de Wavre 2057\n1160 Auderghem\,\nBelgium\n\n\nREGISTRATION & FEES:\n\nRegistration form: link\n\nRegistration is closed\, but for inquiries contact: secretary@abkf.be\n\n\nCONTACT: \nPage event: link
URL:https://kirikaeshi.es/event/abkf-summer-seminar-2023/
LOCATION:Czech Republic –
CATEGORIES:Competition,Grading
END:VEVENT
END:VCALENDAR