BEGIN:VCALENDAR
VERSION:2.0
PRODID:-//Kirikaeshi - ECPv6.15.20//NONSGML v1.0//EN
CALSCALE:GREGORIAN
METHOD:PUBLISH
X-WR-CALNAME:Kirikaeshi
X-ORIGINAL-URL:https://kirikaeshi.es
X-WR-CALDESC:Events for Kirikaeshi
REFRESH-INTERVAL;VALUE=DURATION:PT1H
X-Robots-Tag:noindex
X-PUBLISHED-TTL:PT1H
BEGIN:VTIMEZONE
TZID:UTC
BEGIN:STANDARD
TZOFFSETFROM:+0000
TZOFFSETTO:+0000
TZNAME:UTC
DTSTART:20220101T000000
END:STANDARD
END:VTIMEZONE
BEGIN:VEVENT
DTSTART;VALUE=DATE:20230708
DTEND;VALUE=DATE:20230710
DTSTAMP:20260421T174011
CREATED:20230605T200118Z
LAST-MODIFIED:20230612T152219Z
UID:704-1688774400-1688947199@kirikaeshi.es
SUMMARY:Vratislavia Cup 2023
DESCRIPTION:INFORMATION:\n\nVratislavia Cup is here! Come and enjoy a great kendo competition in a wonderful city. There is also grading up to 4th dan. \n\nSCHEDULE:\nSaturday 8th July\n\n8:00 – Registration and fees / Shinai check\n9:00 – Line up\n9:15 – KYU OPEN Individual Tournament – open class\n11:15 – Women’s Individual Torurnament – open class \nBREAK 12:00 – 13:30 LUNCH\, Shinai check \n13:45 – Men’s Individual Tournament DAN + the first 8 Men from the KYU OPEN Tournament\n16:30 – Award Ceremony\n16:45 – Registration and fees for exams\n17:00 – Exam 1 DAN\, Exam 2 – 4 DAN\n21:00 – Sayonara Party – The Island “SŁODOWA” – a waterside terrace “LOS FLAMINGOS” \n\nSunday 9th July\n\n9:00 – Registration and fees / Shinai check\n9:45 – Line up\n10:00 – Tournament of 3-person OPEN teams – DAN\, KYU\, Women\, Men\, mix \nBREAK 12:00 – 13:00 LUNCH \n14:30 – Award ceremony\n15:00 – 15:55 Goodwill keiko for all\n16:00 – End of the Vratislavia Cup event \n\n\n\nADDRESS:\nSports Hall of the Wrocław University of Technology\nChełmońskiego 16\n51-630\nWrocław\n\n\nPoland \n\nREGISTRATION:\n\nRegistration for gradings: 25/06/2023\n\nRegistration for the tournament: 26/06/2023 \n\nCONTACT: \nFacebook event Vratislavia Cup: link\nPage event: link
URL:https://kirikaeshi.es/event/vratislavia-cup-2023/
LOCATION:Poland –\, Chełmońskiego 16\, Wrocław\, 51-630
CATEGORIES:Competition,Grading
ATTACH;FMTTYPE=image/png:https://kirikaeshi.es/wp-content/uploads/2023/06/2023_Vratislavia_Cup_grading-e1686303752178.png
END:VEVENT
BEGIN:VEVENT
DTSTART;VALUE=DATE:20230710
DTEND;VALUE=DATE:20230722
DTSTAMP:20260421T174011
CREATED:20230609T112026Z
LAST-MODIFIED:20230625T193117Z
UID:800-1688947200-1689983999@kirikaeshi.es
SUMMARY:Fontenay – 43rd seminar of Kendo & Iaido 2023
DESCRIPTION:INFORMATION:\n\nIf you are searching for a lovely summer holiday\, do not miss this event: two weeks full of iaido and kendo. The first week\, from Monday 10th to Friday 14th\, is focused on iaido. The second week\, from Monday 17th to Friday 21st\, is focused on kendo. \n\n\nSCHEDULE:\nMonday 10th to Friday 14th\, July\n\nIaido: \n\nKihon and kendo no kata\nZen Ken Ren Iaido (Setei-iai)\,\nMuso shinden ryu: shoden\, chuden okuden\n\n\nMonday 17th to Friday 21st\,  July\n\nKendo: \n\nGeneral practice of kendo no kata\nGogyo no kata\nReferee practice\nKyu gradings (with the authorisation of the sensei)\n\n\n\nADDRESS:\nINCAF accueil 1\nRue F. Eon\n85203\nFontenay-le-Comte\n\n\nFrance \n\nREGISTRATION & FEES:\n\nRegistration form: link\nFor one week only: 100 €\nFor two weeks: 150 €\nOrganisation fees: 10.50 € / person\n\nOrganisation fees without meals and/or accommodation: 31.50 € / person \n\n\n\n\nACCOMMODATION:\n\nThe seminar offers different accommodation options:\nFull pack: For 6 nights including  breakfast\, lunch and dinner for each day.\n\n\nIndividual room: 330.50€ / person\nDouble room: 250€ / person\nTriple room: 239€ / person\n\n\n\n\nFor 6 nights including only breakfast\n\n\nIndividual room (6 nights): 195€ / person\nIndividual room (1 nights): 32.5€ / person\nDouble room (6 nights): 120€ / person\nDouble room (1 nights): 20€ / person\nTriple room (6 nights): 111€ / person\nTriple room (1 nights): 18.50€ / person\n\n\n\n\n\n\nLunch packs: Breakfast or dinner\n\n\nOnly breakfast: 4€ / person\nAppetizer buffet + Dessert or single course of : 10.50€ / person\nMenu (3 courses): 16.5€ / person\nDouble room (6 nights): 120€ / person\n\n\n\n\nCONTACT: \nPage event: link\nAll information about the event (in French): link
URL:https://kirikaeshi.es/event/template/
LOCATION:Czech Republic –
CATEGORIES:Grading,Seminar
ATTACH;FMTTYPE=image/png:https://kirikaeshi.es/wp-content/uploads/2023/06/Fonteney-Le-Comte_banner-e1686581684679.png
END:VEVENT
BEGIN:VEVENT
DTSTART;VALUE=DATE:20230714
DTEND;VALUE=DATE:20230717
DTSTAMP:20260421T174011
CREATED:20230612T083919Z
LAST-MODIFIED:20230612T152459Z
UID:824-1689292800-1689551999@kirikaeshi.es
SUMMARY:31st Summer Seminar Kanku Huesca Kendo-Iaido - 2023
DESCRIPTION:INFORMATION:\nWelcome to one of the funniest and enjoyable seminar of the year. Combining kendo and iaido together\, and including one of the best sayounara parties ever – Everyone needs a costume and the topic changes every year. Do not miss it!\nThe seminar will be directed by:\n\nEmilio Gomez 7 dan Kendo kyoshi – 7 dan Iaido kyoshi\nAntonio Gutierrez 7 dan Kendo kyoshi – 7 dan Iaido renshi\n\n\nSCHEDULE:\nFriday 14th – Saturday 15th\, July\n\n09:00 – 10:45 Iaido seminar\n11:00 – 13:00 Kendo seminar \nLUNCH BREAK\n16:45 –  18:15 Iaido seminar\n18:30 – 20:15 – Kendo seminar \n\nSunday 16th July\n\n09:00 – 11:00 Gradings for kyus both for Iaido and Kendo (with authorisation of their sensei)\n11:00 – 12:30  – Goodbye Keiko \n\n\n\nADDRESS:\nIES Piramide\nCtra. Cuarte\, S/N\n22071\nHuesca\n\n\nSpain \n\nREGISTRATION & FEES:\n\nRegistration deadline: 04/07/2023\nFor registration contact: antoniogv@telefonica.net / +34 606152386\n\nOnly kendo: 45€\nOnly iaido: 35€\n\nBoth Kendo and iaido: 60€ \n\n\nACCOMMODATION:\n\n\nIES Piramide – Crta.Cuarte S/N\, 22071\, Huesca\, Spain – 20€/night \n\n\n\n\nCONTACT: \nFacebook page: link
URL:https://kirikaeshi.es/event/31st-summer-seminar-kanku-huesca-kendo-iaido/
LOCATION:Spain –\, C/Jordi Girona 1\, Barcelona\, 08034
CATEGORIES:Competition,Grading
ATTACH;FMTTYPE=image/png:https://kirikaeshi.es/wp-content/uploads/2023/06/rect815-9-9-2-7-e1686559875204.png
END:VEVENT
BEGIN:VEVENT
DTSTART;VALUE=DATE:20230721
DTEND;VALUE=DATE:20230724
DTSTAMP:20260421T174011
CREATED:20230609T153103Z
LAST-MODIFIED:20230612T152749Z
UID:802-1689897600-1690156799@kirikaeshi.es
SUMMARY:30th Hungary Kendo Cup - 2023
DESCRIPTION:INFORMATION:\nThe Hungary Kendo cup is back this year! Come and enjoy a great kendo competition in a wonderful city. There is also grading up to 5th dan.\n\nIndividual competition \n\nMen’s ( 18 years old and above)\nLadies’ ( 18 years old and above)\nJunior (15\,16\,17 years old at the time of the championship\, No gender restriction\, in case of 8 participants)\nChildren (Older than 10 and younger than 14 years old at the time of the championship in case of 8 participants)\n1.dan and under ( No gender restriction in case of 16 participants)”\n\nTeam competition: \n\nIf you do not have a Team\, then we are going to put you into one on spot!\nNo gender restriction\, 14 years old and above\, teams composed of 5 persons out of 7 inscriptions.\n\n\n\nSCHEDULE:\nFriday 21st July\n\n18:00 to 20:00 – Godo geiko \nSaturday 22nd July\n\n09:00 to 18:00 – Individual competition and grading up to 5th dan \n19:00 to 29:00 – Welcome Party! \n\n\nSunday 23rd July\n\n09:00 to 13:00 – Team competitions & Godo geiko \n\n\n\nADDRESS:\nBudapest National Civil Service University\nLudovika tér 2\,\n1083\nHungary\n\n\n\nACOMMODATION:\n\nDormitory of Magyary Zoltán Budapest\, F01 iroda\, Orczy út 1\, 1089. Budapest. Hungary \nCheck the dorms out following this link! \n\n\n\n\nREGISTRATION & FEES:\n\nRegistration for gradings: 25/06/2023\nRegistration for the tournament: 26/06/2023\n\n\nIndividual competition: 20€/person\nTeam competition: 35€/team (paid in cash on the spot!)\nAccommodation: 25€ person/night without a meal\n\n\nBank details (if your fee is more the €50!): \nName of account: MKSZ\nHungarian Kendo Federation (MKSZ) Address: 1073 Budapest\,Dob u. 80.\nBank Address: Magnet Bank\, Andrássy út 98\, 1062\nAccount number €: 16200216-17082408\nIBAN Code: HU25 1620 0216 1708 2408 0000 0000\nBIC/Swift: HBWEHUHB \nPLEASE write a note: HKC+your name+name of Citiy+name of dojo \nThe HKF dan exam & team competition fee must be paid by cash at the registration desk. \nPlease transfer the exact fee and bare all bank charges\, otherwise we going to ask you to pay the difference on location. All SEPA style bank transfer usually has 4\,50€ extra charges! \nCONTACT:\nPage event – Hungary Kendo Cup: link
URL:https://kirikaeshi.es/event/2023-hungary-kendo-cup/
LOCATION:Hungary –\, National Civil Service University Ludovika Aréna\, Budapest\, Diószegi Sámuel street 25\, Budapest\, 1089
CATEGORIES:Competition,Grading
ATTACH;FMTTYPE=image/png:https://kirikaeshi.es/wp-content/uploads/2023/06/HungaryKendocup_banner-e1686560344619.png
ORGANIZER;CN="Hunor Mihalik":MAILTO:info[kukac]hungarykendocup.hu
END:VEVENT
END:VCALENDAR