BEGIN:VCALENDAR
VERSION:2.0
PRODID:-//Kirikaeshi - ECPv6.15.20//NONSGML v1.0//EN
CALSCALE:GREGORIAN
METHOD:PUBLISH
X-ORIGINAL-URL:https://kirikaeshi.es
X-WR-CALDESC:Events for Kirikaeshi
REFRESH-INTERVAL;VALUE=DURATION:PT1H
X-Robots-Tag:noindex
X-PUBLISHED-TTL:PT1H
BEGIN:VTIMEZONE
TZID:UTC
BEGIN:STANDARD
TZOFFSETFROM:+0000
TZOFFSETTO:+0000
TZNAME:UTC
DTSTART:20240101T000000
END:STANDARD
END:VTIMEZONE
BEGIN:VEVENT
DTSTART;TZID=UTC:20250614T090000
DTEND;TZID=UTC:20250615T160000
DTSTAMP:20260425T032502
CREATED:20250610T064817Z
LAST-MODIFIED:20250610T064817Z
UID:2425-1749891600-1750003200@kirikaeshi.es
SUMMARY:Coupe de Pessac
DESCRIPTION:Join us for an exciting kendo competition in France\, taking place in the town of Pessac\, just a few minutes from the beautiful city of Bordeaux. This event brings together kendo practitioners of all ages and levels for a weekend of spirited matches\, camaraderie\, and traditional martial arts spirit. \nThe competition will be held over two days\, with individual categories on Saturday and team matches on Sunday. Categories range from children (7–9 years) to adult divisions\, including both kyusha and yudansha levels. \nRegistration is completely free\, and we welcome participants from all dojos and countries. \nFor full details\, schedule\, and registration forms\, please visit the official event website. \nCome experience the passion of kendo in one of the most charming regions of southwest France! \n \nIndividual Categories (Saturday)Alouette 7–9 years oldSamurai 10–13 years oldEspoir 14–16 years oldOpen Women 17+ years old for Kyusha and YudanshaOpen Mixed Yudansha (17+ years old\, male and female dan ranks)Kyusha Men (17+ years old\, male kyu ranks) \nTeams (Sunday)Open Mixed Teams 17+ years old
URL:https://kirikaeshi.es/event/coupe-de-pessac/
CATEGORIES:Competition
ATTACH;FMTTYPE=image/png:https://kirikaeshi.es/wp-content/uploads/2025/06/Affiche-coupe-de-pessac-2025.png
END:VEVENT
END:VCALENDAR